BEGIN:VCALENDAR
VERSION:2.0
PRODID:-//eventon.com NONSGML v1.0//EN
CALSCALE:GREGORIAN
METHOD:PUBLISH
BEGIN:VEVENT
UID:69e5eefb821a2
DTSTAMP:20260420T091643Z
DTSTART:20260509T140000Z
DTEND:20260509T150000Z
LOCATION:Maggio Lounge 50 High St\,  Billericay CM12 9BS
SUMMARY:Billericay\,  Cavapoo 2pm
DESCRIPTION:Spend a feel-good hour with our adorable litter of 7 Cavapoo pu
 ppies as they prepare for their forever homes 🐶💐 Enjoy guided play\, 
  cuddles\,  and plenty of fluffy charm\,  all while helping them build conf
 idence around new people.\nhttps://paws-and-reflect.poochtherapy.co.uk/even
 ts/billericay-cavapoo-2pm/
URL:https://paws-and-reflect.poochtherapy.co.uk/events/billericay-cavapoo-2pm/
END:VEVENT
END:VCALENDAR